BEGIN:VCALENDAR
VERSION:2.0
PRODID:icalendar-ruby
CALSCALE:GREGORIAN
METHOD:PUBLISH
BEGIN:VEVENT
DTSTAMP:20260424T202254Z
UID:9-1542460@sublimebaptist.org
DTSTART:20260827T000000Z
DTEND:20260827T020000Z
CLASS:PUBLIC
CREATED:20260424T112116
DESCRIPTION:
LAST-MODIFIED:20260424T112116
LOCATION:
SUMMARY:Bible Skills
URL;VALUE=URI:https://www.sublimebaptist.org/events/bible-skills--9/2026-08
 -26
ATTACH;FILENAME=IMG_0017.JPG;FMTTYPE=image/jpeg:https://dq5pwpg1q8ru0.cloud
 front.net/2025/09/10/21/55/50/fff00136-6c7a-47b8-9e43-36d7efbe8318/IMG_001
 7.JPG
END:VEVENT
END:VCALENDAR
